Package: pageRank Version: 1.19.0 Command: /Library/Frameworks/R.framework/Resources/bin/R CMD INSTALL pageRank StartedAt: 2025-07-20 15:51:44 -0400 (Sun, 20 Jul 2025) EndedAt: 2025-07-20 15:52:35 -0400 (Sun, 20 Jul 2025) EllapsedTime: 51.3 seconds RetCode: 0 Status: OK