Package: pageRank Version: 1.19.0 Command: /Library/Frameworks/R.framework/Resources/bin/R CMD build --keep-empty-dirs --no-resave-data pageRank StartedAt: 2025-07-20 17:59:16 -0400 (Sun, 20 Jul 2025) EndedAt: 2025-07-20 18:02:23 -0400 (Sun, 20 Jul 2025) EllapsedTime: 186.9 seconds RetCode: 0 Status: OK PackageFile: pageRank_1.19.0.tar.gz PackageFileSize: 121.9 KiB