Package: pageRank Version: 1.19.0 Command: /Library/Frameworks/R.framework/Resources/bin/R CMD INSTALL pageRank StartedAt: 2025-07-01 15:26:33 -0400 (Tue, 01 Jul 2025) EndedAt: 2025-07-01 15:26:49 -0400 (Tue, 01 Jul 2025) EllapsedTime: 15.7 seconds RetCode: 0 Status: OK