Package: pageRank Version: 1.19.0 Command: rm -rf pageRank.buildbin-libdir && mkdir pageRank.buildbin-libdir && /Users/biocbuild/BBS/utils/build-universal.sh pageRank_1.19.0.tar.gz /Library/Frameworks/R.framework/Resources/bin/R pageRank.buildbin-libdir StartedAt: 2025-07-01 22:28:45 -0400 (Tue, 01 Jul 2025) EndedAt: 2025-07-01 22:29:01 -0400 (Tue, 01 Jul 2025) EllapsedTime: 16.4 seconds RetCode: 0 Status: OK PackageFile: pageRank_1.19.0.tgz PackageFileSize: 176.7 KiB