Package: padma Version: 1.19.0 Command: /home/biocbuild/bbs-3.22-bioc/R/bin/R CMD INSTALL padma StartedAt: 2025-10-05 15:21:00 -0400 (Sun, 05 Oct 2025) EndedAt: 2025-10-05 15:21:27 -0400 (Sun, 05 Oct 2025) EllapsedTime: 27.2 seconds RetCode: 0 Status: OK