Package: padma Version: 1.19.0 Command: /home/biocbuild/bbs-3.22-bioc/R/bin/R CMD check --install=check:padma.install-out.txt --library=/home/biocbuild/bbs-3.22-bioc/R/site-library --timings padma_1.19.0.tar.gz StartedAt: 2025-10-06 02:42:45 -0400 (Mon, 06 Oct 2025) EndedAt: 2025-10-06 02:50:41 -0400 (Mon, 06 Oct 2025) EllapsedTime: 475.8 seconds RetCode: 0 Status: OK CheckDir: padma.Rcheck Warnings: 0