Package: padma Version: 1.19.0 Command: /Library/Frameworks/R.framework/Resources/bin/R CMD build --keep-empty-dirs --no-resave-data padma StartedAt: 2025-07-16 17:08:42 -0400 (Wed, 16 Jul 2025) EndedAt: 2025-07-16 17:09:05 -0400 (Wed, 16 Jul 2025) EllapsedTime: 23.2 seconds RetCode: 0 Status: OK PackageFile: padma_1.19.0.tar.gz PackageFileSize: 1.156 MiB