Package: packFinder Version: 1.21.0 Command: chmod a+r packFinder -R && F:\biocbuild\bbs-3.22-bioc\R\bin\R.exe CMD build --keep-empty-dirs --no-resave-data packFinder StartedAt: 2025-07-24 21:12:14 -0400 (Thu, 24 Jul 2025) EndedAt: 2025-07-24 21:12:43 -0400 (Thu, 24 Jul 2025) EllapsedTime: 28.6 seconds RetCode: 0 Status: OK PackageFile: packFinder_1.21.0.tar.gz PackageFileSize: 1.129 MiB