Package: packFinder Version: 1.21.0 Command: rm -rf packFinder.buildbin-libdir && mkdir packFinder.buildbin-libdir && F:\biocbuild\bbs-3.22-bioc\R\bin\R.exe CMD INSTALL --build --library=packFinder.buildbin-libdir packFinder_1.21.0.tar.gz StartedAt: 2025-07-25 09:53:13 -0400 (Fri, 25 Jul 2025) EndedAt: 2025-07-25 09:53:30 -0400 (Fri, 25 Jul 2025) EllapsedTime: 16.1 seconds RetCode: 0 Status: OK PackageFile: packFinder_1.21.0.zip PackageFileSize: 1.166 MiB