Package: packFinder Version: 1.21.0 Command: /Library/Frameworks/R.framework/Resources/bin/R CMD INSTALL packFinder StartedAt: 2025-07-07 15:10:08 -0400 (Mon, 07 Jul 2025) EndedAt: 2025-07-07 15:10:09 -0400 (Mon, 07 Jul 2025) EllapsedTime: 1.1 seconds RetCode: 0 Status: OK