Package: pRoloc Version: 1.49.0 Command: chmod a+r pRoloc -R && F:\biocbuild\bbs-3.22-bioc\R\bin\R.exe CMD build --keep-empty-dirs --no-resave-data pRoloc StartedAt: 2025-07-03 21:20:52 -0400 (Thu, 03 Jul 2025) EndedAt: 2025-07-03 21:33:19 -0400 (Thu, 03 Jul 2025) EllapsedTime: 747.2 seconds RetCode: 0 Status: OK PackageFile: pRoloc_1.49.0.tar.gz PackageFileSize: 6.741 MiB