Package: orthos Version: 1.7.2 Command: /home/biocbuild/R/R/bin/R CMD INSTALL orthos StartedAt: 2025-07-14 20:54:30 -0000 (Mon, 14 Jul 2025) EndedAt: 2025-07-14 20:55:01 -0000 (Mon, 14 Jul 2025) EllapsedTime: 30.8 seconds RetCode: 0 Status: OK