Package: orthos Version: 1.7.2 Command: /home/biocbuild/R/R/bin/R CMD check --install=check:orthos.install-out.txt --library=/home/biocbuild/R/R/site-library --no-vignettes --timings orthos_1.7.2.tar.gz StartedAt: 2025-07-04 09:48:16 -0000 (Fri, 04 Jul 2025) EndedAt: 2025-07-04 10:06:13 -0000 (Fri, 04 Jul 2025) EllapsedTime: 1077.2 seconds RetCode: 0 Status: OK CheckDir: orthos.Rcheck Warnings: 0