Package: orthos Version: 1.7.2 Command: /home/biocbuild/R/R/bin/R CMD build --keep-empty-dirs --no-resave-data orthos StartedAt: 2025-07-15 01:37:33 -0000 (Tue, 15 Jul 2025) EndedAt: 2025-07-15 02:17:33 -0000 (Tue, 15 Jul 2025) EllapsedTime: 2400.7 seconds RetCode: None Status: TIMEOUT PackageFile: None PackageFileSize: NA