Package: orthos Version: 1.7.2 Command: chmod a+r orthos -R && F:\biocbuild\bbs-3.22-bioc\R\bin\R.exe CMD build --keep-empty-dirs --no-resave-data orthos StartedAt: 2025-07-20 20:55:05 -0400 (Sun, 20 Jul 2025) EndedAt: 2025-07-20 21:16:15 -0400 (Sun, 20 Jul 2025) EllapsedTime: 1270.1 seconds RetCode: 0 Status: OK PackageFile: orthos_1.7.2.tar.gz PackageFileSize: 2.12 MiB