Package: orthos Version: 1.7.2 Command: rm -rf orthos.buildbin-libdir && mkdir orthos.buildbin-libdir && F:\biocbuild\bbs-3.22-bioc\R\bin\R.exe CMD INSTALL --build --library=orthos.buildbin-libdir orthos_1.7.2.tar.gz StartedAt: 2025-07-21 09:39:30 -0400 (Mon, 21 Jul 2025) EndedAt: 2025-07-21 09:40:06 -0400 (Mon, 21 Jul 2025) EllapsedTime: 35.7 seconds RetCode: 0 Status: OK PackageFile: orthos_1.7.2.zip PackageFileSize: 1.959 MiB