Package: orthogene Version: 1.15.0 Command: F:\biocbuild\bbs-3.22-bioc\R\bin\R.exe CMD check --no-multiarch --install=check:orthogene.install-out.txt --library=F:\biocbuild\bbs-3.22-bioc\R\library --no-vignettes --timings orthogene_1.15.0.tar.gz StartedAt: 2025-07-02 04:46:26 -0400 (Wed, 02 Jul 2025) EndedAt: 2025-07-02 04:56:12 -0400 (Wed, 02 Jul 2025) EllapsedTime: 586.0 seconds RetCode: 0 Status: OK CheckDir: orthogene.Rcheck Warnings: 0