############################################################################## ############################################################################## ### ### Running command: ### ### /Library/Frameworks/R.framework/Resources/bin/R CMD check --install=check:optimalFlow.install-out.txt --library=/Library/Frameworks/R.framework/Resources/library --no-vignettes --timings optimalFlow_1.21.0.tar.gz ### ############################################################################## ############################################################################## * using log directory ‘/Users/biocbuild/bbs-3.22-bioc/meat/optimalFlow.Rcheck’ * using R version 4.5.1 (2025-06-13) * using platform: x86_64-apple-darwin20 * R was compiled by Apple clang version 14.0.0 (clang-1400.0.29.202) GNU Fortran (GCC) 14.2.0 * running under: macOS Monterey 12.7.6 * using session charset: UTF-8 * using option ‘--no-vignettes’ * checking for file ‘optimalFlow/DESCRIPTION’ ... OK * checking extension type ... Package * this is package ‘optimalFlow’ version ‘1.21.0’ * package encoding: UTF-8 * checking package namespace information ... OK * checking package dependencies ... OK * checking if this is a source package ... OK * checking if there is a namespace ... OK * checking for hidden files and directories ... OK * checking for portable file names ... OK * checking for sufficient/correct file permissions ... OK * checking whether package ‘optimalFlow’ can be installed ... OK * checking installed package size ... OK * checking package directory ... OK * checking ‘build’ directory ... OK * checking DESCRIPTION meta-information ... OK * checking top-level files ... OK * checking for left-over files ... OK * checking index information ... OK * checking package subdirectories ... OK * checking code files for non-ASCII characters ... OK * checking R files for syntax errors ... OK * checking whether the package can be loaded ... OK * checking whether the package can be loaded with stated dependencies ... OK * checking whether the package can be unloaded cleanly ... OK * checking whether the namespace can be loaded with stated dependencies ... OK * checking whether the namespace can be unloaded cleanly ... OK * checking dependencies in R code ... NOTE There are ::: calls to the package's namespace in its code. A package almost never needs to use ::: for its own objects: ‘GaussianBarycenters’ ‘distGaussianCov’ ‘distGaussianMean’ ‘wassersteinKBarycenter’ * checking S3 generic/method consistency ... OK * checking replacement functions ... OK * checking foreign function calls ... OK * checking R code for possible problems ... NOTE voteLabelTransfer: no visible binding for global variable ‘cell’ voteLabelTransfer: no visible binding for global variable ‘compound.proportion’ voteLabelTransfer: no visible binding for global variable ‘vote.proportion’ voteTransformation : : no visible binding for global variable ‘cell’ voteTransformation : : no visible binding for global variable ‘simple.proportion’ voteTransformation : : no visible binding for global variable ‘compound.proportion’ Undefined global functions or variables: cell compound.proportion simple.proportion vote.proportion * checking Rd files ... OK * checking Rd metadata ... OK * checking Rd cross-references ... OK * checking for missing documentation entries ... OK * checking for code/documentation mismatches ... OK * checking Rd \usage sections ... OK * checking Rd contents ... OK * checking for unstated dependencies in examples ... OK * checking files in ‘vignettes’ ... OK * checking examples ... OK Examples with CPU (user + system) or elapsed time > 5s user system elapsed f1ScoreVoting 8.147 13.088 44.027 cytoPlotDatabase3d 5.105 13.699 42.842 optimalFlowClassification 6.542 1.842 19.513 cytoPlot 5.583 1.610 18.241 optimalFlowTemplates 4.937 1.764 25.920 wasserCostFunction 5.109 1.302 28.948 cytoPlot3d 4.495 1.399 16.626 cytoPlotDatabase 4.263 1.404 15.908 tclust_H 2.959 0.543 5.305 tclustWithInitialization 2.878 0.575 5.981 * checking for unstated dependencies in vignettes ... OK * checking package vignettes ... OK * checking running R code from vignettes ... SKIPPED * checking re-building of vignette outputs ... SKIPPED * checking PDF version of manual ... OK * DONE Status: 2 NOTEs See ‘/Users/biocbuild/bbs-3.22-bioc/meat/optimalFlow.Rcheck/00check.log’ for details.