Package: optimalFlow Version: 1.21.0 Command: /Library/Frameworks/R.framework/Resources/bin/R CMD INSTALL optimalFlow StartedAt: 2025-07-04 15:07:37 -0400 (Fri, 04 Jul 2025) EndedAt: 2025-07-04 15:07:46 -0400 (Fri, 04 Jul 2025) EllapsedTime: 8.7 seconds RetCode: 0 Status: OK