Package: optimalFlow Version: 1.21.0 Command: /Library/Frameworks/R.framework/Resources/bin/R CMD check --install=check:optimalFlow.install-out.txt --library=/Library/Frameworks/R.framework/Resources/library --no-vignettes --timings optimalFlow_1.21.0.tar.gz StartedAt: 2025-07-06 20:32:38 -0400 (Sun, 06 Jul 2025) EndedAt: 2025-07-06 20:34:05 -0400 (Sun, 06 Jul 2025) EllapsedTime: 87.0 seconds RetCode: 0 Status: OK CheckDir: optimalFlow.Rcheck Warnings: 0