Package: optimalFlow Version: 1.21.0 Command: /Library/Frameworks/R.framework/Resources/bin/R CMD build --keep-empty-dirs --no-resave-data optimalFlow StartedAt: 2025-07-04 17:07:02 -0400 (Fri, 04 Jul 2025) EndedAt: 2025-07-04 17:10:19 -0400 (Fri, 04 Jul 2025) EllapsedTime: 196.2 seconds RetCode: 0 Status: OK PackageFile: optimalFlow_1.21.0.tar.gz PackageFileSize: 1.273 MiB