Package: optimalFlow Version: 1.21.0 Command: rm -rf optimalFlow.buildbin-libdir && mkdir optimalFlow.buildbin-libdir && /Users/biocbuild/BBS/utils/build-universal.sh optimalFlow_1.21.0.tar.gz /Library/Frameworks/R.framework/Resources/bin/R optimalFlow.buildbin-libdir StartedAt: 2025-07-04 22:27:56 -0400 (Fri, 04 Jul 2025) EndedAt: 2025-07-04 22:28:08 -0400 (Fri, 04 Jul 2025) EllapsedTime: 12.3 seconds RetCode: 0 Status: OK PackageFile: optimalFlow_1.21.0.tgz PackageFileSize: 1.102 MiB