Package: oppti Version: 1.23.1 Command: F:\biocbuild\bbs-3.22-bioc\R\bin\R.exe CMD INSTALL oppti StartedAt: 2025-07-24 15:41:54 -0400 (Thu, 24 Jul 2025) EndedAt: 2025-07-24 15:42:12 -0400 (Thu, 24 Jul 2025) EllapsedTime: 17.2 seconds RetCode: 0 Status: OK