Package: oppti Version: 1.23.0 Command: /Library/Frameworks/R.framework/Resources/bin/R CMD build --keep-empty-dirs --no-resave-data oppti StartedAt: 2025-07-20 17:57:17 -0400 (Sun, 20 Jul 2025) EndedAt: 2025-07-20 17:57:45 -0400 (Sun, 20 Jul 2025) EllapsedTime: 27.4 seconds RetCode: 1 Status: ERROR PackageFile: None PackageFileSize: NA