Package: oppti Version: 1.23.0 Command: /Library/Frameworks/R.framework/Resources/bin/R CMD INSTALL oppti StartedAt: 2025-07-22 15:06:35 -0400 (Tue, 22 Jul 2025) EndedAt: 2025-07-22 15:06:39 -0400 (Tue, 22 Jul 2025) EllapsedTime: 4.3 seconds RetCode: 0 Status: OK