Package: oppti Version: 1.23.0 Command: /Library/Frameworks/R.framework/Resources/bin/R CMD build --keep-empty-dirs --no-resave-data oppti StartedAt: 2025-07-22 17:07:41 -0400 (Tue, 22 Jul 2025) EndedAt: 2025-07-22 17:07:50 -0400 (Tue, 22 Jul 2025) EllapsedTime: 9.1 seconds RetCode: 1 Status: ERROR PackageFile: None PackageFileSize: NA