Package: oppti Version: 1.23.0 Maintainer: Abdulkadir Elmas MaintainerEmail: abdulkadir.elmas at mssm.edu git_url: https://git.bioconductor.org/packages/oppti git_branch: devel git_last_commit: fb0e310 git_last_commit_date: 2025-04-15 11:52:13 -0400 (Tue, 15 Apr 2025)