Package: oppar Version: 1.37.0 Command: /home/biocbuild/R/R/bin/R CMD build --keep-empty-dirs --no-resave-data oppar StartedAt: 2025-07-22 01:41:14 -0000 (Tue, 22 Jul 2025) EndedAt: 2025-07-22 01:42:46 -0000 (Tue, 22 Jul 2025) EllapsedTime: 92.0 seconds RetCode: 0 Status: OK PackageFile: oppar_1.37.0.tar.gz PackageFileSize: 3.386 MiB