Package: oppar Version: 1.37.0 Command: F:\biocbuild\bbs-3.22-bioc\R\bin\R.exe CMD INSTALL oppar StartedAt: 2025-07-24 17:02:21 -0400 (Thu, 24 Jul 2025) EndedAt: 2025-07-24 17:03:17 -0400 (Thu, 24 Jul 2025) EllapsedTime: 55.8 seconds RetCode: 0 Status: OK