Package: oppar Version: 1.37.0 Command: /Library/Frameworks/R.framework/Resources/bin/R CMD INSTALL oppar StartedAt: 2025-07-21 15:46:06 -0400 (Mon, 21 Jul 2025) EndedAt: 2025-07-21 15:46:57 -0400 (Mon, 21 Jul 2025) EllapsedTime: 50.7 seconds RetCode: 0 Status: OK