Package: oppar Version: 1.37.0 Command: /Library/Frameworks/R.framework/Resources/bin/R CMD build --keep-empty-dirs --no-resave-data oppar StartedAt: 2025-07-21 17:47:31 -0400 (Mon, 21 Jul 2025) EndedAt: 2025-07-21 17:48:50 -0400 (Mon, 21 Jul 2025) EllapsedTime: 79.4 seconds RetCode: 0 Status: OK PackageFile: oppar_1.37.0.tar.gz PackageFileSize: 3.399 MiB