Package: oppar Version: 1.37.0 Command: rm -rf oppar.buildbin-libdir && mkdir oppar.buildbin-libdir && /Users/biocbuild/BBS/utils/build-universal.sh oppar_1.37.0.tar.gz /Library/Frameworks/R.framework/Resources/bin/R oppar.buildbin-libdir StartedAt: 2025-07-22 01:14:59 -0400 (Tue, 22 Jul 2025) EndedAt: 2025-07-22 01:15:56 -0400 (Tue, 22 Jul 2025) EllapsedTime: 56.7 seconds RetCode: 0 Status: OK PackageFile: oppar_1.37.0.tgz PackageFileSize: 5.263 MiB