Package: oposSOM Version: 2.27.0 Command: /home/biocbuild/R/R/bin/R CMD build --keep-empty-dirs --no-resave-data oposSOM StartedAt: 2025-07-08 01:21:01 -0000 (Tue, 08 Jul 2025) EndedAt: 2025-07-08 01:22:01 -0000 (Tue, 08 Jul 2025) EllapsedTime: 60.0 seconds RetCode: 0 Status: OK PackageFile: oposSOM_2.27.0.tar.gz PackageFileSize: 13.34 MiB