Package: oposSOM Version: 2.27.0 Command: rm -rf oposSOM.buildbin-libdir && mkdir oposSOM.buildbin-libdir && F:\biocbuild\bbs-3.22-bioc\R\bin\R.exe CMD INSTALL --build --library=oposSOM.buildbin-libdir oposSOM_2.27.0.tar.gz StartedAt: 2025-07-17 09:34:39 -0400 (Thu, 17 Jul 2025) EndedAt: 2025-07-17 09:36:10 -0400 (Thu, 17 Jul 2025) EllapsedTime: 90.5 seconds RetCode: 0 Status: OK PackageFile: oposSOM_2.27.0.zip PackageFileSize: 13.76 MiB