Package: oposSOM Version: 2.27.0 Command: /Library/Frameworks/R.framework/Resources/bin/R CMD INSTALL oposSOM StartedAt: 2025-07-13 15:25:13 -0400 (Sun, 13 Jul 2025) EndedAt: 2025-07-13 15:25:59 -0400 (Sun, 13 Jul 2025) EllapsedTime: 45.4 seconds RetCode: 0 Status: OK