Package: oposSOM Version: 2.27.0 Command: rm -rf oposSOM.buildbin-libdir && mkdir oposSOM.buildbin-libdir && /Users/biocbuild/BBS/utils/build-universal.sh oposSOM_2.27.0.tar.gz /Library/Frameworks/R.framework/Resources/bin/R oposSOM.buildbin-libdir StartedAt: 2025-07-14 01:10:53 -0400 (Mon, 14 Jul 2025) EndedAt: 2025-07-14 01:11:46 -0400 (Mon, 14 Jul 2025) EllapsedTime: 53.1 seconds RetCode: 0 Status: OK PackageFile: oposSOM_2.27.0.tgz PackageFileSize: 13.58 MiB