Package: openPrimeR Version: 1.31.0 Command: F:\biocbuild\bbs-3.22-bioc\R\bin\R.exe CMD INSTALL openPrimeR StartedAt: 2025-07-07 16:37:41 -0400 (Mon, 07 Jul 2025) EndedAt: 2025-07-07 16:41:45 -0400 (Mon, 07 Jul 2025) EllapsedTime: 243.3 seconds RetCode: 0 Status: OK