Package: openPrimeR Version: 1.31.0 Command: chmod a+r openPrimeR -R && F:\biocbuild\bbs-3.22-bioc\R\bin\R.exe CMD build --keep-empty-dirs --no-resave-data openPrimeR StartedAt: 2025-07-07 20:51:46 -0400 (Mon, 07 Jul 2025) EndedAt: 2025-07-07 20:53:16 -0400 (Mon, 07 Jul 2025) EllapsedTime: 89.9 seconds RetCode: 1 Status: ERROR PackageFile: None PackageFileSize: NA