Package: openPrimeR Version: 1.31.1 Command: rm -rf openPrimeR.buildbin-libdir && mkdir openPrimeR.buildbin-libdir && F:\biocbuild\bbs-3.22-bioc\R\bin\R.exe CMD INSTALL --build --library=openPrimeR.buildbin-libdir openPrimeR_1.31.1.tar.gz StartedAt: 2025-07-21 09:38:25 -0400 (Mon, 21 Jul 2025) EndedAt: 2025-07-21 09:42:43 -0400 (Mon, 21 Jul 2025) EllapsedTime: 258.1 seconds RetCode: 0 Status: OK PackageFile: openPrimeR_1.31.1.zip PackageFileSize: 3.225 MiB