Package: openCyto Version: 2.21.0 Command: F:\biocbuild\bbs-3.22-bioc\R\bin\R.exe CMD check --no-multiarch --install=check:openCyto.install-out.txt --library=F:\biocbuild\bbs-3.22-bioc\R\library --no-vignettes --timings openCyto_2.21.0.tar.gz StartedAt: 2025-07-15 04:47:05 -0400 (Tue, 15 Jul 2025) EndedAt: 2025-07-15 04:50:51 -0400 (Tue, 15 Jul 2025) EllapsedTime: 225.1 seconds RetCode: 0 Status: WARNINGS CheckDir: openCyto.Rcheck Warnings: 2