Package: openCyto Version: 2.21.0 Command: rm -rf openCyto.buildbin-libdir && mkdir openCyto.buildbin-libdir && F:\biocbuild\bbs-3.22-bioc\R\bin\R.exe CMD INSTALL --build --library=openCyto.buildbin-libdir openCyto_2.21.0.tar.gz StartedAt: 2025-07-14 09:34:37 -0400 (Mon, 14 Jul 2025) EndedAt: 2025-07-14 09:36:39 -0400 (Mon, 14 Jul 2025) EllapsedTime: 121.9 seconds RetCode: 0 Status: OK PackageFile: openCyto_2.21.0.zip PackageFileSize: 1.994 MiB