Package: ontoProc Version: 2.3.6 Command: /home/biocbuild/R/R/bin/R CMD INSTALL ontoProc StartedAt: 2025-07-10 21:50:11 -0000 (Thu, 10 Jul 2025) EndedAt: 2025-07-10 21:50:54 -0000 (Thu, 10 Jul 2025) EllapsedTime: 42.7 seconds RetCode: 0 Status: OK