Package: ontoProc Version: 2.3.6 Command: /home/biocbuild/R/R/bin/R CMD check --install=check:ontoProc.install-out.txt --library=/home/biocbuild/R/R/site-library --no-vignettes --timings ontoProc_2.3.6.tar.gz StartedAt: 2025-07-11 10:44:41 -0000 (Fri, 11 Jul 2025) EndedAt: 2025-07-11 10:58:29 -0000 (Fri, 11 Jul 2025) EllapsedTime: 828.2 seconds RetCode: 0 Status: OK CheckDir: ontoProc.Rcheck Warnings: 0