Package: ontoProc Version: 2.3.6 Command: /home/biocbuild/R/R/bin/R CMD build --keep-empty-dirs --no-resave-data ontoProc StartedAt: 2025-07-11 02:44:51 -0000 (Fri, 11 Jul 2025) EndedAt: 2025-07-11 02:47:36 -0000 (Fri, 11 Jul 2025) EllapsedTime: 164.1 seconds RetCode: 0 Status: OK PackageFile: ontoProc_2.3.6.tar.gz PackageFileSize: 13.11 MiB