Package: ontoProc Version: 2.3.6 Command: F:\biocbuild\bbs-3.22-bioc\R\bin\R.exe CMD INSTALL ontoProc StartedAt: 2025-07-16 16:23:05 -0400 (Wed, 16 Jul 2025) EndedAt: 2025-07-16 16:24:12 -0400 (Wed, 16 Jul 2025) EllapsedTime: 66.4 seconds RetCode: 0 Status: OK