Package: ontoProc Version: 2.3.6 Command: F:\biocbuild\bbs-3.22-bioc\R\bin\R.exe CMD check --no-multiarch --install=check:ontoProc.install-out.txt --library=F:\biocbuild\bbs-3.22-bioc\R\library --no-vignettes --timings ontoProc_2.3.6.tar.gz StartedAt: 2025-07-18 04:45:32 -0400 (Fri, 18 Jul 2025) EndedAt: 2025-07-18 04:59:44 -0400 (Fri, 18 Jul 2025) EllapsedTime: 851.8 seconds RetCode: 0 Status: OK CheckDir: ontoProc.Rcheck Warnings: 0