Package: ontoProc Version: 2.3.6 Command: chmod a+r ontoProc -R && F:\biocbuild\bbs-3.22-bioc\R\bin\R.exe CMD build --keep-empty-dirs --no-resave-data ontoProc StartedAt: 2025-07-16 20:51:10 -0400 (Wed, 16 Jul 2025) EndedAt: 2025-07-16 20:54:28 -0400 (Wed, 16 Jul 2025) EllapsedTime: 198.0 seconds RetCode: 0 Status: OK PackageFile: ontoProc_2.3.6.tar.gz PackageFileSize: 12.78 MiB