Package: ontoProc Version: 2.3.6 Command: rm -rf ontoProc.buildbin-libdir && mkdir ontoProc.buildbin-libdir && F:\biocbuild\bbs-3.22-bioc\R\bin\R.exe CMD INSTALL --build --library=ontoProc.buildbin-libdir ontoProc_2.3.6.tar.gz StartedAt: 2025-07-17 09:34:18 -0400 (Thu, 17 Jul 2025) EndedAt: 2025-07-17 09:35:29 -0400 (Thu, 17 Jul 2025) EllapsedTime: 70.4 seconds RetCode: 0 Status: OK PackageFile: ontoProc_2.3.6.zip PackageFileSize: 10.72 MiB