############################################################################## ############################################################################## ### ### Running command: ### ### /Library/Frameworks/R.framework/Resources/bin/R CMD check --install=check:ontoProc.install-out.txt --library=/Library/Frameworks/R.framework/Resources/library --no-vignettes --timings ontoProc_2.3.7.tar.gz ### ############################################################################## ############################################################################## * using log directory ‘/Users/biocbuild/bbs-3.22-bioc/meat/ontoProc.Rcheck’ * using R version 4.5.1 Patched (2025-06-14 r88325) * using platform: aarch64-apple-darwin20 * R was compiled by Apple clang version 16.0.0 (clang-1600.0.26.6) GNU Fortran (GCC) 14.2.0 * running under: macOS Ventura 13.7.1 * using session charset: UTF-8 * using option ‘--no-vignettes’ * checking for file ‘ontoProc/DESCRIPTION’ ... OK * this is package ‘ontoProc’ version ‘2.3.7’ * package encoding: UTF-8 * checking package namespace information ... OK * checking package dependencies ... OK * checking if this is a source package ... OK * checking if there is a namespace ... OK * checking for hidden files and directories ... OK * checking for portable file names ... OK * checking for sufficient/correct file permissions ... OK * checking whether package ‘ontoProc’ can be installed ... OK * checking installed package size ... INFO installed size is 11.5Mb sub-directories of 1Mb or more: app 1.9Mb data 1.8Mb ontoRda 2.8Mb owl 3.8Mb * checking package directory ... OK * checking ‘build’ directory ... OK * checking DESCRIPTION meta-information ... OK * checking top-level files ... OK * checking for left-over files ... OK * checking index information ... OK * checking package subdirectories ... OK * checking code files for non-ASCII characters ... OK * checking R files for syntax errors ... OK * checking whether the package can be loaded ... OK * checking whether the package can be loaded with stated dependencies ... OK * checking whether the package can be unloaded cleanly ... OK * checking whether the namespace can be loaded with stated dependencies ... OK * checking whether the namespace can be unloaded cleanly ... OK * checking dependencies in R code ... NOTE ':::' call which should be '::': ‘ontologyPlot:::remove_uninformative_terms’ See the note in ?`:::` about the use of this operator. * checking S3 generic/method consistency ... OK * checking replacement functions ... OK * checking foreign function calls ... OK * checking R code for possible problems ... NOTE CLfeat : prupdate: no visible binding for global variable ‘PROSYM’ CLfeat : prupdate: no visible binding for global variable ‘PRID’ CLfeat : prupdate: no visible binding for global variable ‘SYMBOL’ ctmarks : server: no visible binding for global variable ‘text’ ctmarks : server: no visible binding for global variable ‘packDesc2022’ ctmarks : server: no visible binding for global variable ‘packDesc2021’ ctmarks: no visible binding for global variable ‘cumu’ dropStop: no visible binding for global variable ‘stopWords’ getOnto: no visible binding for global variable ‘rdatadateadded’ getOnto: no visible binding for global variable ‘title’ getOnto: no visible binding for global variable ‘description’ ldfToTerm: no visible binding for global variable ‘PROSYM’ sym2CellOnto: no visible binding for global variable ‘PROSYM’ sym2CellOnto: no visible binding for global variable ‘SYMBOL’ Undefined global functions or variables: PRID PROSYM SYMBOL cumu description packDesc2021 packDesc2022 rdatadateadded stopWords text title Consider adding importFrom("graphics", "text", "title") to your NAMESPACE file. * checking Rd files ... OK * checking Rd metadata ... OK * checking Rd cross-references ... NOTE Found the following Rd file(s) with Rd \link{} targets missing package anchors: findCommonAncestors.Rd: graph, DataFrame-class, List-class Please provide package anchors for all Rd \link{} targets not in the package itself and the base packages. * checking for missing documentation entries ... OK * checking for code/documentation mismatches ... OK * checking Rd \usage sections ... NOTE S3 methods shown with full name in Rd file 'plot.owlents.Rd': ‘plot.owlents’ The \usage entries for S3 methods should use the \method markup and not their full name. See chapter ‘Writing R documentation files’ in the ‘Writing R Extensions’ manual. * checking Rd contents ... OK * checking for unstated dependencies in examples ... OK * checking contents of ‘data’ directory ... OK * checking data for non-ASCII characters ... OK * checking data for ASCII and uncompressed saves ... OK * checking files in ‘vignettes’ ... OK * checking examples ... OK Examples with CPU (user + system) or elapsed time > 5s user system elapsed sym2CellOnto 19.376 0.406 22.802 CLfeats 12.265 0.537 13.524 siblings_TAG 9.122 0.488 10.058 nomenCheckup 6.810 0.231 9.676 fastGrep 6.122 0.173 6.453 owl2cache 6.109 0.117 6.236 labels.owlents 5.684 0.152 5.895 getLeavesFromTerm 5.635 0.176 5.969 cleanCLOnames 5.449 0.163 6.123 common_classes 5.094 0.346 5.679 ancestors 4.910 0.169 4.719 make_graphNEL_from_ontology_plot 3.897 0.231 6.944 liberalMap 3.804 0.209 6.217 mapOneNaive 3.574 0.198 5.237 search_labels 0.138 0.008 6.152 bioregistry_ols_resources 0.021 0.010 5.062 * checking for unstated dependencies in ‘tests’ ... OK * checking tests ... Running ‘test.R’ OK * checking for unstated dependencies in vignettes ... OK * checking package vignettes ... OK * checking running R code from vignettes ... SKIPPED * checking re-building of vignette outputs ... SKIPPED * checking PDF version of manual ... OK * DONE Status: 4 NOTEs See ‘/Users/biocbuild/bbs-3.22-bioc/meat/ontoProc.Rcheck/00check.log’ for details.