Package: onlineFDR Version: 2.17.0 Command: /home/biocbuild/R/R/bin/R CMD INSTALL onlineFDR StartedAt: 2025-07-10 21:03:50 -0000 (Thu, 10 Jul 2025) EndedAt: 2025-07-10 21:05:06 -0000 (Thu, 10 Jul 2025) EllapsedTime: 76.1 seconds RetCode: 0 Status: OK